Workbook

Sheet Blad1
A1: Beoordelingsformulier schrijfexamen | G1: SE p5.4 | K1: NEDERLANDS
A3: klas: | B3: Havo 5 | C3: Docent: | D3: lbh | F3: naam leerling | H3: Lynde Nijhuis
A4: Vak: | B4: Ne | C4: Datum: | D4: 43563 | F4: opdracht | L4: score
L5: =H3 -> Lynde Nijhuis
A6: gewicht | B6: onderdeel
A7: 40p | B7: Inhoud | D7: toepasselijke titel | H7: 8 6 4 2 0 | I7: titel ontbreekt | L7: 0
D8: standpunt/vraag/probleem passend | H8: 8 6 4 2 0 | I8: standpunt/vraag/probleem ontbreekt of niet passend | L8: 6
D9: goede en relevantie uitwerking | H9: 8 6 4 2 0 | I9: onvoldoende of geen relevante uitwerking | L9: 8
D10: tekst is passend bij publiek, doel en vorm | H10: 8 6 4 2 0 | I10: tekst is niet geschikt voor publiek, doel en vorm | L10: 8
D11: slot: geschikt voor de tekstsoort | H11: 8 6 4 2 0 | I11: slot: niet geschikt, mist delen of heeft nieuwe info | L11: 6
K12: TOTAAL | L12: =SUM(L7:L11) -> 28
A13: 30p | B13: Structuur | D13: correcte inleiding | H13: 6 4 2 0 | I13: niet correcte inleiding | L13: 4
D14: elke alinea een kernzin | H14: 6 4 2 0 | I14: geen duidelijke kernzin | L14: 4
D15: herkenbare en passende structuur | H15: 6 4 2 0 | I15: onherkenbare of ongeschikte structuur | L15: 6
D16: functioneel gebruik signaalwoorden, overgangszinnen | H16: 6 4 2 0 | I16: minimaal gebruik overgangzinnen, signaalwoorden | L16: 2
D17: slot: conclusie en goede slotzin | H17: 6 4 2 0 | I17: slot niet herkenbaar, geen slotzin | L17: 6
K18: TOTAAL | L18: =SUM(L13:L17) -> 22
A19: 20p | B19: taalverzorging | D19: spelling perfect | H19: 5 4 3 2 1 0 | I19: spelling > 5fouten | L19: 4
D20: zinsbouw en stijl perfect | H20: 5 4 3 2 1 0 | I20: zinsbouw en stijl veel fouten >10 | L20: 4
D21: de tekst is zakelijk geschreven | H21: 5 4 3 2 1 0 | I21: de tekst is in spreektaal geschreven | L21: 5
D22: taalgebruik draagt bij aan doel | H22: 5 4 3 2 1 0 | I22: de schrijfstijl is niet passend of functioneel | L22: 2
K23: TOTAAL | L23: =SUM(L19:L22) -> 15
A24: 10p | B24: publiek | D24: duidelijk herkenbaar | H24: 10 7 5 2 0 | I24: niet herkenbaar | L24: 7
K26: TOTAAL | L26: =SUM(L24:L25) -> 7
D28: =H4 -> 0
B29: cijfer | C29: =SUM(L12+L18+L23+L26) -> 72
B30: MALUS | E30: aantal woorden <850
B32: eindcijfer | C32: =SUM(C29:C30)/10 -> 7.2

Sheet Blad2
B2: CIJFER: | E2: Gemiddelde score per onderdeel
E3: =Blad1!$H$3 -> Lynde Nijhuis | F3: =Blad1!$H$4 -> 0 | G3: =K3 -> 0 | H3: gewicht | I3: =E3 -> Lynde Nijhuis | J3: =F3 -> 0 | K3: =Blad1!$H$5 -> 0
D4: A | E4: =Blad1!#REF! -> #REF! | F4: =Blad1!#REF! -> #REF! | G4: =Blad1!#REF! -> #REF! | H4: =Blad1!#REF! -> #REF! | I4: =E4*H4 -> #REF! | J4: =F4*H4 -> #REF! | K4: =G4*H4 -> #REF!
D5: B | E5: =Blad1!#REF! -> #REF! | F5: =Blad1!#REF! -> #REF! | G5: =Blad1!#REF! -> #REF! | H5: =Blad1!#REF! -> #REF! | I5: =E5*H5 -> #REF! | J5: =F5*H5 -> #REF! | K5: =G5*H5 -> #REF!
D6: C | E6: =Blad1!L18 -> 22 | F6: =#REF! -> #REF! | G6: =Blad1!#REF! -> #REF! | H6: =Blad1!$A$7 -> 40p | I6: =E6*H6 -> #VALUE! | J6: =F6*H6 -> #REF! | K6: =G6*H6 -> #REF!
D7: D | E7: =Blad1!L23 -> 15 | F7: =#REF! -> #REF! | G7: =Blad1!#REF! -> #REF! | H7: =Blad1!$A$19 -> 20p | I7: =E7*H7 -> #VALUE! | J7: =F7*H7 -> #REF! | K7: =G7*H7 -> #REF!
D8: E | E8: =Blad1!L26 -> 7 | F8: =#REF! -> #REF! | G8: =Blad1!#REF! -> #REF! | H8: =Blad1!$A$24 -> 10p | I8: =E8*H8 -> #VALUE! | J8: =F8*H8 -> #REF! | K8: =G8*H8 -> #REF!
D9: F | E9: =Blad1!#REF! -> #REF! | F9: =Blad1!#REF! -> #REF! | G9: =Blad1!#REF! -> #REF! | H9: =Blad1!#REF! -> #REF! | I9: =E9*H9 -> #REF! | J9: =F9*H9 -> #REF! | K9: =G9*H9 -> #REF!
G10: totaal | H10: =SUM(H4:H9) -> #REF!
H11: eindcijfer: | I11: =SUM(I4:I9)/H10*2 -> #REF! | J11: =SUM(J4:J9)/H10*2 -> #REF! | K11: =SUM(K4:K9)/H10*2 -> #REF!

Sheet Blad3
